BEGIN:VCALENDAR
VERSION:2.0
CALSCALE:GREGORIAN
PRODID:-//Diputació de Barcelona//DibaCMS//EN
BEGIN:VEVENT
UID:4927
DTSTAMP:20260422T041917
DTSTART:20120404T000000
DTEND:20130404T000000
SUMMARY:Avui surt al carrer el Butlletí d'Informació Municipal del mes d'abril
LOCATION:
METHOD:PUBLISH
X-WR-CALNAME:llagosta@llagosta.cat
X-WR-TIMEZONE:Europe/Madrid
DESCRIPTION:L'Ajuntament de la Llagosta distribueix avui el Butlletí d'Informació Municipal del mes d'abril. La publicació recull les darreres notícies que ha generat el Consistori llagostenc. A la contraportada, es mostra la programació de les activitats de Sant Jordi.
URI:https://www.llagosta.cat/actualitat/noticies/avui-surt-al-carrer-el-butlleti-dinformacio-municipal-del-mes-dabril.html
CLASS:PUBLIC
END:VEVENT
END:VCALENDAR
