BEGIN:VCALENDAR
VERSION:2.0
CALSCALE:GREGORIAN
PRODID:-//Diputació de Barcelona//DibaCMS//EN
BEGIN:VEVENT
UID:4926
DTSTAMP:20260422T184652
DTSTART:20120404T000000
DTEND:20130404T000000
SUMMARY:El Fútbol Sala Unión Llagostense cau al terreny de joc del líder, el Ripoll, per 3 a 2
LOCATION:
METHOD:PUBLISH
X-WR-CALNAME:llagosta@llagosta.cat
X-WR-TIMEZONE:Europe/Madrid
DESCRIPTION:El Fútbol Sala Unión Llagostense va perdre el cap de setmana passat per 3 a 2 a la pista del líder, el Ripoll. Els llagostencs van afrontar el partit amb pocs efectius, però, tot i així, van plantar cara al primer classificat i van estar a prop d'aconseguir un resultat positiu. 
URI:https://www.llagosta.cat/actualitat/noticies/el-futbol-sala-union-llagostense-cau-al-terreny-de-joc-del-lider-el-ripoll-per-3-a-2.html
CLASS:PUBLIC
END:VEVENT
END:VCALENDAR
