BEGIN:VCALENDAR
VERSION:2.0
CALSCALE:GREGORIAN
PRODID:-//Diputació de Barcelona//DibaCMS//EN
BEGIN:VEVENT
UID:4925
DTSTAMP:20260422T164004
DTSTART:20120404T000000
DTEND:20130404T000000
SUMMARY:L'Oficina d'Atenció a la Ciutadania de l'Ajuntament no obrirà demà per la tarda
LOCATION:
METHOD:PUBLISH
X-WR-CALNAME:llagosta@llagosta.cat
X-WR-TIMEZONE:Europe/Madrid
DESCRIPTION:L'Oficina d'Atenció a la Ciutadania (OAC) no obrirà demà per la tarda per la Setmana Santa. Aquest servei tornarà al seu horari habitual dimarts, ja que dilluns és festiu. L'horari d'atenció al públic de l'OAC és de dilluns a divendres de les 8.30 a les 14 hores i per les tardes obre els dimarts i dijous de les 16 a les 20 hores. 
URI:https://www.llagosta.cat/actualitat/noticies/loficina-datencio-a-la-ciutadania-de-lajuntament-no-obrira-dema-per-la-tarda.html
CLASS:PUBLIC
END:VEVENT
END:VCALENDAR
