BEGIN:VCALENDAR
VERSION:2.0
CALSCALE:GREGORIAN
PRODID:-//Diputació de Barcelona//DibaCMS//EN
BEGIN:VEVENT
UID:4924
DTSTAMP:20260423T041426
DTSTART:20120404T000000
DTEND:20130404T000000
SUMMARY:Demà, segona captació sanguínia de l'any a la plaça d'Antoni Baqué
LOCATION:
METHOD:PUBLISH
X-WR-CALNAME:llagosta@llagosta.cat
X-WR-TIMEZONE:Europe/Madrid
DESCRIPTION:El Banc de Sang farà demà la segona captació sanguínia de l'any a la Llagosta. Una unitat mòbil s'instal·larà a la plaça d'Antoni Baqué de deu del matí a una del migdia i de cinc de la tarda a nou del vespre. 
URI:https://www.llagosta.cat/actualitat/noticies/dema-segona-captacio-sanguinia-de-lany-a-la-placa-dantoni-baque.html
CLASS:PUBLIC
END:VEVENT
END:VCALENDAR
