BEGIN:VCALENDAR
VERSION:2.0
CALSCALE:GREGORIAN
PRODID:-//Diputació de Barcelona//DibaCMS//EN
BEGIN:VEVENT
UID:4923
DTSTAMP:20260423T000922
DTSTART:20120404T000000
DTEND:20130404T000000
SUMMARY:Vallès Visió celebra el seu segon aniversari i premia la Colla Gegantera de la Llagosta
LOCATION:
METHOD:PUBLISH
X-WR-CALNAME:llagosta@llagosta.cat
X-WR-TIMEZONE:Europe/Madrid
DESCRIPTION:Vallès Visió, la televisió pública del Baix Vallès, té ja dos anys. El Teatre Can Rajoler de Parets va acollir divendres la festa de celebració d'aquest aniversari a la qual van anar l'alcalde de la Llagosta, Alberto López, i el regidor de Comunicació, Jordi Alonso, en representació de l'Ajuntament de la Llagosta. 
URI:https://www.llagosta.cat/actualitat/noticies/valles-visio-celebra-el-seu-segon-aniversari-i-premia-la-colla-gegantera-de-la-llagosta.html
CLASS:PUBLIC
END:VEVENT
END:VCALENDAR
