BEGIN:VCALENDAR
VERSION:2.0
CALSCALE:GREGORIAN
PRODID:-//Diputació de Barcelona//DibaCMS//EN
BEGIN:VEVENT
UID:4922
DTSTAMP:20260422T060014
DTSTART:20120403T000000
DTEND:20130403T000000
SUMMARY:El conjunt sènior del Vallag perd el primer partit de la fase d'ascens i ara és segon
LOCATION:
METHOD:PUBLISH
X-WR-CALNAME:llagosta@llagosta.cat
X-WR-TIMEZONE:Europe/Madrid
DESCRIPTION:El sènior de l'Handbol Club Vallag va patir el cap de setmana passat la primera derrota de la fase d'ascens a Segona Catalana. Els de la nostra localitat van caure per 23 a 13 a la pista del Mataró.
URI:https://www.llagosta.cat/actualitat/noticies/el-conjunt-senior-del-vallag-perd-el-primer-partit-de-la-fase-dascens-i-ara-es-segon.html
CLASS:PUBLIC
END:VEVENT
END:VCALENDAR
