BEGIN:VCALENDAR
VERSION:2.0
CALSCALE:GREGORIAN
PRODID:-//Diputació de Barcelona//DibaCMS//EN
BEGIN:VEVENT
UID:4921
DTSTAMP:20260422T151115
DTSTART:20120403T000000
DTEND:20130403T000000
SUMMARY:El tercer torneig de futbol base de Vallès Visió comptarà amb la participació del CE La Llagosta
LOCATION:
METHOD:PUBLISH
X-WR-CALNAME:llagosta@llagosta.cat
X-WR-TIMEZONE:Europe/Madrid
DESCRIPTION:Vuit clubs, entre ells el Club Esportiu La Llagosta, participaran dijous i divendres en el tercer Torneig de futbol base de Vallès Visió. La competició, que se celebrarà al Camp Municipal Josep Seguer de Parets, és organitzada per Vallès Visió i el Club de Futbol Parets.
URI:https://www.llagosta.cat/actualitat/noticies/el-tercer-torneig-de-futbol-base-de-valles-visio-comptara-amb-la-participacio-del-ce-la-llagosta.html
CLASS:PUBLIC
END:VEVENT
END:VCALENDAR
