BEGIN:VCALENDAR
VERSION:2.0
CALSCALE:GREGORIAN
PRODID:-//Diputació de Barcelona//DibaCMS//EN
BEGIN:VEVENT
UID:4920
DTSTAMP:20260422T151305
DTSTART:20120403T000000
DTEND:20130403T000000
SUMMARY:L'Ajuntament fa una sèrie de recomanacions per evitar la proliferació del mosquit tigre
LOCATION:
METHOD:PUBLISH
X-WR-CALNAME:llagosta@llagosta.cat
X-WR-TIMEZONE:Europe/Madrid
DESCRIPTION:Amb la propera arribada dels mesos de més calor, l'Ajuntament de la Llagosta vol recordar els principals consells per prevenir la proliferació del mosquit tigre i evitar la seva picada. El Consistori insisteix que cal evitar qualsevol acumulació d'aigua a l'aire lliure per tal que no hi puguin créixer les larves. 
URI:https://www.llagosta.cat/actualitat/noticies/lajuntament-fa-una-serie-de-recomanacions-per-evitar-la-proliferacio-del-mosquit-tigre.html
CLASS:PUBLIC
END:VEVENT
END:VCALENDAR
