BEGIN:VCALENDAR
VERSION:2.0
CALSCALE:GREGORIAN
PRODID:-//Diputació de Barcelona//DibaCMS//EN
BEGIN:VEVENT
UID:4919
DTSTAMP:20260422T152332
DTSTART:20120402T000000
DTEND:20130403T000000
SUMMARY:L'equip sènior masculí A de l'EBC La Llagosta perd contra el Joventut les Corts
LOCATION:
METHOD:PUBLISH
X-WR-CALNAME:llagosta@llagosta.cat
X-WR-TIMEZONE:Europe/Madrid
DESCRIPTION:El sènior masculí A de l'Esportiu Bàsquet Club de la Llagosta va perdre el cap de setmana davant del Joventut les Corts per 57 a 65.  Els llagostencs van sumar una nova derrota i continuen tancant la classificació.
URI:https://www.llagosta.cat/actualitat/noticies/lequip-senior-masculi-a-de-lebc-la-llagosta-perd-contra-el-joventut-les-corts.html
CLASS:PUBLIC
END:VEVENT
END:VCALENDAR
