BEGIN:VCALENDAR
VERSION:2.0
CALSCALE:GREGORIAN
PRODID:-//Diputació de Barcelona//DibaCMS//EN
BEGIN:VEVENT
UID:4918
DTSTAMP:20260422T053627
DTSTART:20120402T000000
DTEND:20130402T000000
SUMMARY:El Grup de Ball de Gitanes de la Llagosta va actuar ahir a la Trobada de Santa Perpètua
LOCATION:
METHOD:PUBLISH
X-WR-CALNAME:llagosta@llagosta.cat
X-WR-TIMEZONE:Europe/Madrid
DESCRIPTION:El Grup de Ball de Gitanes de la Llagosta va participar ahir a la Trobada de Santa Perpètua. Aquesta era la segona ballada de la roda de trobades d'aquesta temporada.
URI:https://www.llagosta.cat/actualitat/noticies/el-grup-de-ball-de-gitanes-de-la-llagosta-va-actuar-ahir-a-la-trobada-de-santa-perpetua.html
CLASS:PUBLIC
END:VEVENT
END:VCALENDAR
