BEGIN:VCALENDAR
VERSION:2.0
CALSCALE:GREGORIAN
PRODID:-//Diputació de Barcelona//DibaCMS//EN
BEGIN:VEVENT
UID:4917
DTSTAMP:20260422T082933
DTSTART:20120402T000000
DTEND:20130402T000000
SUMMARY:L'atleta de Montornès Pedro Rondón guanya la Cursa Popular Els 10 de la Llagosta
LOCATION:
METHOD:PUBLISH
X-WR-CALNAME:llagosta@llagosta.cat
X-WR-TIMEZONE:Europe/Madrid
DESCRIPTION:Pedro Rondón, de Montornès, va guanyar ahir l'edició número 25 de la Cursa Popular Els 10 de la Llagosta amb un temps de 32 minuts i 59 segons. En segona posició va arribar Martín Fiz, campió del món de marató i gran convidat a la cursa de la nostra localitat, amb 33 minuts i set segons, i tercer va ser l'atleta de Barberà David Gallego amb 33 minuts i 18 segons. 
URI:https://www.llagosta.cat/actualitat/noticies/latleta-de-montornes-pedro-rondon-guanya-la-cursa-popular-els-10-de-la-llagosta.html
CLASS:PUBLIC
END:VEVENT
END:VCALENDAR
