BEGIN:VCALENDAR
VERSION:2.0
CALSCALE:GREGORIAN
PRODID:-//Diputació de Barcelona//DibaCMS//EN
BEGIN:VEVENT
UID:4916
DTSTAMP:20260422T132435
DTSTART:20120330T000000
DTEND:20130330T000000
SUMMARY:L'Ajuntament es mantindrà en el pla de sanejament després de tancar el 2011 en negatiu
LOCATION:
METHOD:PUBLISH
X-WR-CALNAME:llagosta@llagosta.cat
X-WR-TIMEZONE:Europe/Madrid
DESCRIPTION:L’Ajuntament de la Llagosta no s’acollirà al pla d’ajudes impulsat pel Ministeri d’Hisenda per tal que les administracions locals paguin als proveïdors. Així es va donar a conèixer al ple extraordinari celebrat dimecres.
URI:https://www.llagosta.cat/actualitat/noticies/lajuntament-es-mantindra-en-el-pla-de-sanejament-despres-de-tancar-el-2011-en-negatiu.html
CLASS:PUBLIC
END:VEVENT
END:VCALENDAR
