BEGIN:VCALENDAR
VERSION:2.0
CALSCALE:GREGORIAN
PRODID:-//Diputació de Barcelona//DibaCMS//EN
BEGIN:VEVENT
UID:4915
DTSTAMP:20260422T043719
DTSTART:20120330T000000
DTEND:20130330T000000
SUMMARY:L'equip sènior masculí A de l'EBC La Llagosta rebrà la visita del Joventut les Corts
LOCATION:
METHOD:PUBLISH
X-WR-CALNAME:llagosta@llagosta.cat
X-WR-TIMEZONE:Europe/Madrid
DESCRIPTION:El sènior masculí A de l'Esportiu Bàsquet Club de la Llagosta jugarà demà a casa contra el Joventut les Corts. Els de la nostra localitat, que van perdre la jornada passada per 107 a 57 contra el Pedagogium, són cuers amb només dues victòries. El seu proper rival és vuitè amb dotze partits guanyats.
URI:https://www.llagosta.cat/actualitat/noticies/lequip-senior-masculi-a-de-lebc-la-llagosta-rebra-la-visita-del-joventut-les-corts.html
CLASS:PUBLIC
END:VEVENT
END:VCALENDAR
