BEGIN:VCALENDAR
VERSION:2.0
CALSCALE:GREGORIAN
PRODID:-//Diputació de Barcelona//DibaCMS//EN
BEGIN:VEVENT
UID:4914
DTSTAMP:20260422T014206
DTSTART:20120330T000000
DTEND:20130330T000000
SUMMARY:El Grup de Ball de Gitanes de la Llagosta, diumenge a la Trobada de Santa Perpètua
LOCATION:
METHOD:PUBLISH
X-WR-CALNAME:llagosta@llagosta.cat
X-WR-TIMEZONE:Europe/Madrid
DESCRIPTION:El Grup de Ball de Gitanes de la Llagosta participarà diumenge en la Trobada de Santa Perpètua, que arriba a la seva edició número 28. L'activitat tindrà lloc a partir de les cinc de la tarda al Pavelló d'Esports de la veïna localitat. 
URI:https://www.llagosta.cat/actualitat/noticies/el-grup-de-ball-de-gitanes-de-la-llagosta-diumenge-a-la-trobada-de-santa-perpetua.html
CLASS:PUBLIC
END:VEVENT
END:VCALENDAR
