BEGIN:VCALENDAR
VERSION:2.0
CALSCALE:GREGORIAN
PRODID:-//Diputació de Barcelona//DibaCMS//EN
BEGIN:VEVENT
UID:4913
DTSTAMP:20260422T022255
DTSTART:20120330T000000
DTEND:20130320T000000
SUMMARY:Pràcticament la totalitat dels treballadors de l'Ajuntament de la Llagosta van fer vaga
LOCATION:
METHOD:PUBLISH
X-WR-CALNAME:llagosta@llagosta.cat
X-WR-TIMEZONE:Europe/Madrid
DESCRIPTION:La vaga general d'ahir va tenir un seguiment del 95% a la indústria del Vallès Oriental i d'un 80% al comerç, especialment a les grans superfícies comercials, segons els sindicats. Aquestes dades contrasten amb les facilitades per la patronal PIMEC, que rebaixa la xifra fins al 26,4%. 
URI:https://www.llagosta.cat/actualitat/noticies/practicament-la-totalitat-dels-treballadors-de-lajuntament-de-la-llagosta-van-fer-vaga.html
CLASS:PUBLIC
END:VEVENT
END:VCALENDAR
