BEGIN:VCALENDAR
VERSION:2.0
CALSCALE:GREGORIAN
PRODID:-//Diputació de Barcelona//DibaCMS//EN
BEGIN:VEVENT
UID:4912
DTSTAMP:20260422T114940
DTSTART:20120330T000000
DTEND:20130330T000000
SUMMARY:Diumenge, Cursa Popular de la Llagosta amb el campió del món de marató, Martín Fiz
LOCATION:
METHOD:PUBLISH
X-WR-CALNAME:llagosta@llagosta.cat
X-WR-TIMEZONE:Europe/Madrid
DESCRIPTION:Un miler de persones, entre les quals es troba Martín Fiz, campió del món de marató, participaran diumenge en l'edició número 25 de la Cursa Popular Els 10 de la Llagosta, organitzada pel Club Esportiu Fondistes de la Llagosta amb la col·laboració de l'Ajuntament.
URI:https://www.llagosta.cat/actualitat/noticies/diumenge-cursa-popular-de-la-llagosta-amb-el-campio-del-mon-de-marato-martin-fiz.html
CLASS:PUBLIC
END:VEVENT
END:VCALENDAR
