BEGIN:VCALENDAR
VERSION:2.0
CALSCALE:GREGORIAN
PRODID:-//Diputació de Barcelona//DibaCMS//EN
BEGIN:VEVENT
UID:4911
DTSTAMP:20260421T222430
DTSTART:20120328T000000
DTEND:20130328T000000
SUMMARY:Bernat Sierra, quart en l'Open d'Espanya de Taewkondo en menys de 59 quilos
LOCATION:
METHOD:PUBLISH
X-WR-CALNAME:llagosta@llagosta.cat
X-WR-TIMEZONE:Europe/Madrid
DESCRIPTION:El llagostenc Bernat Sierra Pardo va participar dissabte al desè Open d'Espanya de Taekwondo, celebrat a Alacant. Sierra va classificar-se en quarta posició a la categoria de menys de 59 quilos. 
URI:https://www.llagosta.cat/actualitat/noticies/bernat-sierra-quart-en-lopen-despanya-de-taewkondo-en-menys-de-59-quilos.html
CLASS:PUBLIC
END:VEVENT
END:VCALENDAR
