BEGIN:VCALENDAR
VERSION:2.0
CALSCALE:GREGORIAN
PRODID:-//Diputació de Barcelona//DibaCMS//EN
BEGIN:VEVENT
UID:4910
DTSTAMP:20260422T235643
DTSTART:20120328T000000
DTEND:20130328T000000
SUMMARY:Demà, convocada vaga general en contra de la reforma laboral
LOCATION:
METHOD:PUBLISH
X-WR-CALNAME:llagosta@llagosta.cat
X-WR-TIMEZONE:Europe/Madrid
DESCRIPTION:La ciutadania en general està cridada a secundar la vaga general convocada pels sindicats i diversos col·lectius per a demà dijous. La darrera reforma laboral és la que ha portat a la convocatòria d'aquesta vaga general, que començarà aquesta nit a les deu, coincidint amb el torn de nit de les fàbriques. 	
URI:https://www.llagosta.cat/actualitat/noticies/dema-convocada-vaga-general-en-contra-de-la-reforma-laboral.html
CLASS:PUBLIC
END:VEVENT
END:VCALENDAR
