BEGIN:VCALENDAR
VERSION:2.0
CALSCALE:GREGORIAN
PRODID:-//Diputació de Barcelona//DibaCMS//EN
BEGIN:VEVENT
UID:4909
DTSTAMP:20260422T134624
DTSTART:20120328T000000
DTEND:20130328T000000
SUMMARY:L'Ajuntament no s'acollirà al pla d'ajudes del Govern Central per pagar els proveïdors
LOCATION:
METHOD:PUBLISH
X-WR-CALNAME:llagosta@llagosta.cat
X-WR-TIMEZONE:Europe/Madrid
DESCRIPTION:L’Ajuntament de la Llagosta no s’acollirà al pla d’ajudes impulsat pel Ministeri d’Hisenda per tal que les administracions locals paguin als proveïdors. L’equip de govern municipal considera que pot fer front al pagament sense haver de recórrer a aquesta nova línia de crèdit sobretot perquè s’està fent un gran esforç per tal d’augmentar els ingressos. 
URI:https://www.llagosta.cat/actualitat/noticies/lajuntament-no-sacollira-al-pla-dajudes-del-govern-central-per-pagar-els-proveidors.html
CLASS:PUBLIC
END:VEVENT
END:VCALENDAR
