BEGIN:VCALENDAR
VERSION:2.0
CALSCALE:GREGORIAN
PRODID:-//Diputació de Barcelona//DibaCMS//EN
BEGIN:VEVENT
UID:4908
DTSTAMP:20260422T184301
DTSTART:20120328T000000
DTEND:20130328T000000
SUMMARY:Vallès Visió celebrarà divendres la festa del seu segon aniversari a Parets del Vallès
LOCATION:
METHOD:PUBLISH
X-WR-CALNAME:llagosta@llagosta.cat
X-WR-TIMEZONE:Europe/Madrid
DESCRIPTION:El Teatre Can Rajoler de Parets acollirà divendres a partir de les set de la tarda la festa del segon aniversari de Vallès Visió, la televisió pública del Baix Vallès. La gala, que serà conduïda pel director del canal, Jordi Seguer, i per la periodista Sara Escriu, tindrà una durada aproximada de dues hores i comptarà amb l’assistència dels alcaldes i regidors dels municipis consorciats, directors dels mitjans de comunicació de la comarca i representants de l'activitat socioeconòmica del Baix Vallès.
URI:https://www.llagosta.cat/actualitat/noticies/valles-visio-celebrara-divendres-la-festa-del-seu-segon-aniversari-a-parets-del-valles.html
CLASS:PUBLIC
END:VEVENT
END:VCALENDAR
