BEGIN:VCALENDAR
VERSION:2.0
CALSCALE:GREGORIAN
PRODID:-//Diputació de Barcelona//DibaCMS//EN
BEGIN:VEVENT
UID:4907
DTSTAMP:20260422T015335
DTSTART:20120328T000000
DTEND:20130328T000000
SUMMARY:El sènior del Vallag continua en ratxa i suma un nou triomf contra el Cardedeu
LOCATION:
METHOD:PUBLISH
X-WR-CALNAME:llagosta@llagosta.cat
X-WR-TIMEZONE:Europe/Madrid
DESCRIPTION:L'Handbol Club Vallag va sumar la jornada passada una nova victòria en la fase d'ascens a Segona Catalana. Els de la nostra localitat van guanyar el Cardedeu per 27 a 12 i mantenen el liderat de la competició.
URI:https://www.llagosta.cat/actualitat/noticies/el-senior-del-vallag-continua-en-ratxa-i-suma-un-nou-triomf-contra-el-cardedeu.html
CLASS:PUBLIC
END:VEVENT
END:VCALENDAR
