BEGIN:VCALENDAR
VERSION:2.0
CALSCALE:GREGORIAN
PRODID:-//Diputació de Barcelona//DibaCMS//EN
BEGIN:VEVENT
UID:4906
DTSTAMP:20260422T033928
DTSTART:20120327T000000
DTEND:20130327T000000
SUMMARY:Aurora García, de la Llagosta, campiona d'Espanya de natació sincronitzada per equips
LOCATION:
METHOD:PUBLISH
X-WR-CALNAME:llagosta@llagosta.cat
X-WR-TIMEZONE:Europe/Madrid
DESCRIPTION:La veïna de la Llagosta Aurora García Silvestre s'ha proclamat  campiona d'Espanya aleví d'hivern de natació sincronitzada per equips en la modalitat de combos amb el Club Natació Granollers. Aquesta era la primera participació de la jove llagostenca a un Campionat d'Espanya.
URI:https://www.llagosta.cat/actualitat/noticies/aurora-garcia-de-la-llagosta-campiona-despanya-de-natacio-sincronitzada-per-equips.html
CLASS:PUBLIC
END:VEVENT
END:VCALENDAR
