BEGIN:VCALENDAR
VERSION:2.0
CALSCALE:GREGORIAN
PRODID:-//Diputació de Barcelona//DibaCMS//EN
BEGIN:VEVENT
UID:4905
DTSTAMP:20260422T135607
DTSTART:20120327T000000
DTEND:20130327T000000
SUMMARY:Daniel Vilches, del Gimnàs La Llagosta, campió de Catalunya de kyus
LOCATION:
METHOD:PUBLISH
X-WR-CALNAME:llagosta@llagosta.cat
X-WR-TIMEZONE:Europe/Madrid
DESCRIPTION:El judoka llagostenc Daniel Vilches s'ha proclamat campió de Catalunya de kyus. Aquesta competició, on no participen cinturons negres, es va celebrar dissabte a Barcelona. 
URI:https://www.llagosta.cat/actualitat/noticies/daniel-vilches-del-gimnas-la-llagosta-campio-de-catalunya-de-kyus.html
CLASS:PUBLIC
END:VEVENT
END:VCALENDAR
