BEGIN:VCALENDAR
VERSION:2.0
CALSCALE:GREGORIAN
PRODID:-//Diputació de Barcelona//DibaCMS//EN
BEGIN:VEVENT
UID:4904
DTSTAMP:20260422T104730
DTSTART:20120327T000000
DTEND:20130327T000000
SUMMARY:El PSC presenta al·legacions al plec per adjudicar el servei de recollida d'escombraries 
LOCATION:
METHOD:PUBLISH
X-WR-CALNAME:llagosta@llagosta.cat
X-WR-TIMEZONE:Europe/Madrid
DESCRIPTION:El grup municipal socialista a l'Ajuntament de la Llagosta ha presentat un seguit d'al·legacions al plec de condicions per adjudicar el servei de recollida d'escombraries i la neteja viària de la nostra localitat. La documentació va ser aprovada inicialment al ple ordinari del mes de febrer.
URI:https://www.llagosta.cat/actualitat/noticies/el-psc-presenta-allegacions-al-plec-per-adjudicar-el-servei-de-recollida-descombraries-.html
CLASS:PUBLIC
END:VEVENT
END:VCALENDAR
