BEGIN:VCALENDAR
VERSION:2.0
CALSCALE:GREGORIAN
PRODID:-//Diputació de Barcelona//DibaCMS//EN
BEGIN:VEVENT
UID:4903
DTSTAMP:20260423T092313
DTSTART:20120327T000000
DTEND:20130327T000000
SUMMARY:Es redueix en un 38% l'aportació de l'Ajuntament per al funcionament de Vallès Visió
LOCATION:
METHOD:PUBLISH
X-WR-CALNAME:llagosta@llagosta.cat
X-WR-TIMEZONE:Europe/Madrid
DESCRIPTION:L'Ajuntament de la Llagosta pagarà aquest any un 38% menys de quota pel funcionament del canal de televisió local Vallès Visió, el que suposa un estalvi de prop de 50.000 euros respecte a les aportacions fetes el 2011. 
URI:https://www.llagosta.cat/actualitat/noticies/es-redueix-en-un-38-laportacio-de-lajuntament-per-al-funcionament-de-valles-visio.html
CLASS:PUBLIC
END:VEVENT
END:VCALENDAR
