BEGIN:VCALENDAR
VERSION:2.0
CALSCALE:GREGORIAN
PRODID:-//Diputació de Barcelona//DibaCMS//EN
BEGIN:VEVENT
UID:4902
DTSTAMP:20260422T014940
DTSTART:20120327T000000
DTEND:20130327T000000
SUMMARY:La Concòrdia A guanya a la pista del Rubí B i té més a prop el títol de lliga
LOCATION:
METHOD:PUBLISH
X-WR-CALNAME:llagosta@llagosta.cat
X-WR-TIMEZONE:Europe/Madrid
DESCRIPTION:El primer equip del Club Deportivo La Concòrdia va guanyar el cap de setmana passat per 2 a 5 a la pista del Rubí B. Les de la nostra localitat van ser molt superiors.
URI:https://www.llagosta.cat/actualitat/noticies/la-concordia-a-guanya-a-la-pista-del-rubi-b-i-te-mes-a-prop-el-titol-de-lliga.html
CLASS:PUBLIC
END:VEVENT
END:VCALENDAR
