BEGIN:VCALENDAR
VERSION:2.0
CALSCALE:GREGORIAN
PRODID:-//Diputació de Barcelona//DibaCMS//EN
BEGIN:VEVENT
UID:4901
DTSTAMP:20260422T015934
DTSTART:20120326T000000
DTEND:20130326T000000
SUMMARY:L'Escola Municipal de Música farà demà el Concert de Sant Josep al Centre Cultural
LOCATION:
METHOD:PUBLISH
X-WR-CALNAME:llagosta@llagosta.cat
X-WR-TIMEZONE:Europe/Madrid
DESCRIPTION:El Centre Cultural de la Llagosta acollirà demà el Concert de Sant Josep dels alumnes de l'Escola Municipal de Música. L'acte començarà a dos quarts de vuit de la tarda.
URI:https://www.llagosta.cat/actualitat/noticies/lescola-municipal-de-musica-fara-dema-el-concert-de-sant-josep-al-centre-cultural.html
CLASS:PUBLIC
END:VEVENT
END:VCALENDAR
