BEGIN:VCALENDAR
VERSION:2.0
CALSCALE:GREGORIAN
PRODID:-//Diputació de Barcelona//DibaCMS//EN
BEGIN:VEVENT
UID:4900
DTSTAMP:20260422T094545
DTSTART:20120326T000000
DTEND:20130326T000000
SUMMARY:Gran participació ahir en la quarta Trobada de gegants i capgrossos de la Llagosta
LOCATION:
METHOD:PUBLISH
X-WR-CALNAME:llagosta@llagosta.cat
X-WR-TIMEZONE:Europe/Madrid
DESCRIPTION:Els carrers de la Llagosta es van omplir ahir de gent per presenciar la quarta Trobada de gegants i capgrossos de la Llagosta, organitzada per la Colla Gegantera de la nostra localitat. L'activitat, que es va desenvolupar durant tot el matí, formava part del programa d'actes de les Festes de Sant Josep.
URI:https://www.llagosta.cat/actualitat/noticies/gran-participacio-ahir-en-la-quarta-trobada-de-gegants-i-capgrossos-de-la-llagosta.html
CLASS:PUBLIC
END:VEVENT
END:VCALENDAR
