BEGIN:VCALENDAR
VERSION:2.0
CALSCALE:GREGORIAN
PRODID:-//Diputació de Barcelona//DibaCMS//EN
BEGIN:VEVENT
UID:4899
DTSTAMP:20260422T205032
DTSTART:20120326T000000
DTEND:20130327T000000
SUMMARY:El Viejas Glorias continua en la bona línia i derrota fàcilment el Badia (5-0)
LOCATION:
METHOD:PUBLISH
X-WR-CALNAME:llagosta@llagosta.cat
X-WR-TIMEZONE:Europe/Madrid
DESCRIPTION:El Club Deportivo Viejas Glorias va guanyar dissabte per un clar 5 a 0 el Badia i ja suma cinc jornades seguides sense perdre. Els llagostencs van dominar en tot moment el partit.
URI:https://www.llagosta.cat/actualitat/noticies/el-viejas-glorias-continua-en-la-bona-linia-i-derrota-facilment-el-badia-5-0.html
CLASS:PUBLIC
END:VEVENT
END:VCALENDAR
