BEGIN:VCALENDAR
VERSION:2.0
CALSCALE:GREGORIAN
PRODID:-//Diputació de Barcelona//DibaCMS//EN
BEGIN:VEVENT
UID:4898
DTSTAMP:20260422T014131
DTSTART:20120326T000000
DTEND:20130326T000000
SUMMARY:El FS Unión Llagostense goleja el Santa Eulàlia abans de visitar la pista del líder
LOCATION:
METHOD:PUBLISH
X-WR-CALNAME:llagosta@llagosta.cat
X-WR-TIMEZONE:Europe/Madrid
DESCRIPTION:El Fútbol Sala Unión Llagostense va derrotar el cap de setmana el Santa Eulàlia per 11 a 4. Els de José Manuel Poyato van sortir massa relaxats a la pista i es van trobar amb un 0 a 2 en contra. Després, van reaccionar i van empatar, però els visitants es van tornar a avançar en dues ocasions més. Al descans, el resultat era d'empat a quatre.
URI:https://www.llagosta.cat/actualitat/noticies/el-fs-union-llagostense-goleja-el-santa-eulalia-abans-de-visitar-la-pista-del-lider.html
CLASS:PUBLIC
END:VEVENT
END:VCALENDAR
