BEGIN:VCALENDAR
VERSION:2.0
CALSCALE:GREGORIAN
PRODID:-//Diputació de Barcelona//DibaCMS//EN
BEGIN:VEVENT
UID:4897
DTSTAMP:20260421T235939
DTSTART:20120323T000000
DTEND:20130323T000000
SUMMARY:El Complex Municipal El Truó acull demà una trobada de joves judokes
LOCATION:
METHOD:PUBLISH
X-WR-CALNAME:llagosta@llagosta.cat
X-WR-TIMEZONE:Europe/Madrid
DESCRIPTION:El Complex Esportiu Municipal El Turó acollirà demà una trobada de judo organitzada per les AMPA de les escoles les Planes, Joan Maragall i SAFA de la Llagosta i de l'escola Montseny de Mollet del Vallès. L'acte compta amb la col·laboració especial del Gimnàs la Llagosta.
URI:https://www.llagosta.cat/actualitat/noticies/el-complex-municipal-el-truo-acull-dema-una-trobada-de-joves-judokes.html
CLASS:PUBLIC
END:VEVENT
END:VCALENDAR
