BEGIN:VCALENDAR
VERSION:2.0
CALSCALE:GREGORIAN
PRODID:-//Diputació de Barcelona//DibaCMS//EN
BEGIN:VEVENT
UID:4896
DTSTAMP:20260422T033618
DTSTART:20120323T000000
DTEND:20130323T000000
SUMMARY:El Grup de Ball de Gitanes de la Llagosta anirà demà a la trobada de Canovelles
LOCATION:
METHOD:PUBLISH
X-WR-CALNAME:llagosta@llagosta.cat
X-WR-TIMEZONE:Europe/Madrid
DESCRIPTION:El Grup de Ball de Gitanes de la Llagosta començarà demà la temporada de ballades d'aquest any. La colla de grans participarà a la trobada que organitza la Colla de Gitanes de Canovelles amb motiu del seu cinquantè aniversari.
URI:https://www.llagosta.cat/actualitat/noticies/el-grup-de-ball-de-gitanes-de-la-llagosta-anira-dema-a-la-trobada-de-canovelles.html
CLASS:PUBLIC
END:VEVENT
END:VCALENDAR
