BEGIN:VCALENDAR
VERSION:2.0
CALSCALE:GREGORIAN
PRODID:-//Diputació de Barcelona//DibaCMS//EN
BEGIN:VEVENT
UID:4895
DTSTAMP:20260422T014000
DTSTART:20120323T000000
DTEND:20130323T000000
SUMMARY:La llagostenca Mireia Egea participa al Congrés Nacional de Convergència
LOCATION:
METHOD:PUBLISH
X-WR-CALNAME:llagosta@llagosta.cat
X-WR-TIMEZONE:Europe/Madrid
DESCRIPTION:La secretària general de Convergència a la Llagosta, Mireia Egea, participa a partir d'avui al setzè Congrés Nacional de Convergència Democràtica de Catalunya, que se celebra a Reus fins diumenge. Aquest congrés servirà per renovar la direcció del partit i debatre les propostes ideològiques de Convergència.
URI:https://www.llagosta.cat/actualitat/noticies/la-llagostenca-mireia-egea-participa-al-congres-nacional-de-convergencia.html
CLASS:PUBLIC
END:VEVENT
END:VCALENDAR
