BEGIN:VCALENDAR
VERSION:2.0
CALSCALE:GREGORIAN
PRODID:-//Diputació de Barcelona//DibaCMS//EN
BEGIN:VEVENT
UID:4894
DTSTAMP:20260422T174423
DTSTART:20120323T000000
DTEND:20130323T000000
SUMMARY:La Concòrdia manté el seu avantatge d'onze punts després de guanyar el Martorelles (3-1)
LOCATION:
METHOD:PUBLISH
X-WR-CALNAME:llagosta@llagosta.cat
X-WR-TIMEZONE:Europe/Madrid
DESCRIPTION:El primer equip del Club Deportivo La Concòrdia es desplaçarà aquesta jornada a la pista del Rubí B després de guanyar el cap de setmana passat el Martorelles per 3 a 1. Cintia va fer dos gols i Alba, un. Després, les visitants van establir el definitiu 3 a 1.
URI:https://www.llagosta.cat/actualitat/noticies/la-concordia-mante-el-seu-avantatge-donze-punts-despres-de-guanyar-el-martorelles-3-1.html
CLASS:PUBLIC
END:VEVENT
END:VCALENDAR
