BEGIN:VCALENDAR
VERSION:2.0
CALSCALE:GREGORIAN
PRODID:-//Diputació de Barcelona//DibaCMS//EN
BEGIN:VEVENT
UID:4893
DTSTAMP:20260422T123942
DTSTART:20120323T000000
DTEND:20130323T000000
SUMMARY:El FS Unión Llagostense jugarà aquesta jornada a casa contra el Santa Eulàlia
LOCATION:
METHOD:PUBLISH
X-WR-CALNAME:llagosta@llagosta.cat
X-WR-TIMEZONE:Europe/Madrid
DESCRIPTION:El Fútbol Sala Unión Llagostense rebrà aquest cap de setmana la visita del Santa Eulàlia. Els llagostencs, que vénen de golejar el Futsal Plata de Gràcia, ocupen la cinquena posició amb 40 punts, mentre que el seu proper rival és setè amb 27 punts.
URI:https://www.llagosta.cat/actualitat/noticies/el-fs-union-llagostense-jugara-aquesta-jornada-a-casa-contra-el-santa-eulalia.html
CLASS:PUBLIC
END:VEVENT
END:VCALENDAR
