BEGIN:VCALENDAR
VERSION:2.0
CALSCALE:GREGORIAN
PRODID:-//Diputació de Barcelona//DibaCMS//EN
BEGIN:VEVENT
UID:4892
DTSTAMP:20260422T141206
DTSTART:20120323T000000
DTEND:20130323T000000
SUMMARY:Diumenge, se celebra la quarta Trobada de gegants i capgrossos de la Llagosta
LOCATION:
METHOD:PUBLISH
X-WR-CALNAME:llagosta@llagosta.cat
X-WR-TIMEZONE:Europe/Madrid
DESCRIPTION:La Colla gegantera de la Llagosta organitzarà diumenge la quarta Trobada de gegants i capgrossos de la nostra localitat. L'activitat forma part de la programació de les Festes de Sant Josep. Una quinzena de colles geganteres de diverses poblacions vindran a la Llagosta per participar en aquesta trobada. En concret, està previst que hi prenguin part les colles de Sant Julià de Lòria d'Andorra, de Sant Cugat, de Calella, de Vilanova del Vallès, de Santa Perpètua, del passeig de les Palmeres de Tarragona, d'Aiguafreda, de Sant Joan de Vilatorrada, de Gualba, de Vic, de Castellterçol, de Caldetes i de la Garriga, a més de la Faràndula de Badalona i l'Associació Gegantera Recreativa del Prat de Llobregat. També hi participaran els amfitrions, els gegants de la Llagosta, i la colla de diables les Llagostes de l'Avern.
URI:https://www.llagosta.cat/actualitat/noticies/diumenge-se-celebra-la-quarta-trobada-de-gegants-i-capgrossos-de-la-llagosta.html
CLASS:PUBLIC
END:VEVENT
END:VCALENDAR
