BEGIN:VCALENDAR
VERSION:2.0
CALSCALE:GREGORIAN
PRODID:-//Diputació de Barcelona//DibaCMS//EN
BEGIN:VEVENT
UID:4891
DTSTAMP:20260422T053555
DTSTART:20120322T000000
DTEND:20130322T000000
SUMMARY:La Biblioteca Municipal lliura els premis als guanyadors del Concurs de punts de llibre
LOCATION:
METHOD:PUBLISH
X-WR-CALNAME:llagosta@llagosta.cat
X-WR-TIMEZONE:Europe/Madrid
DESCRIPTION:Yaiza Rubio Mosquero, en la categoria de 6 a 10 anys; Marina Ortega Montero, en la d'11 a 15 anys; i Ferran Cano Merino, en la de 16 a 18 anys, han estat els guanyadors del Concurs de punt de llibre Sant Jordi 2012, convocat per la Biblioteca Municipal de la Llagosta. El lliurament dels lots de llibres als premiats va tenir lloc ahir. 
URI:https://www.llagosta.cat/actualitat/noticies/la-biblioteca-municipal-lliura-els-premis-als-guanyadors-del-concurs-de-punts-de-llibre.html
CLASS:PUBLIC
END:VEVENT
END:VCALENDAR
