BEGIN:VCALENDAR
VERSION:2.0
CALSCALE:GREGORIAN
PRODID:-//Diputació de Barcelona//DibaCMS//EN
BEGIN:VEVENT
UID:4890
DTSTAMP:20260422T072508
DTSTART:20120322T000000
DTEND:20130322T000000
SUMMARY:El sènior del Vallag suma a Sant Boi el segon triomf en la fase d'ascens a Segona
LOCATION:
METHOD:PUBLISH
X-WR-CALNAME:llagosta@llagosta.cat
X-WR-TIMEZONE:Europe/Madrid
DESCRIPTION:El sènior de l'Handbol Club Vallag va obtenir la jornada passada una victòria important a la pista del Ciutat Cooperativa Centre Recreatiu de Sant Boi de Llobregat. Els de la nostra localitat van guanyar per 27 a 30.
URI:https://www.llagosta.cat/actualitat/noticies/el-senior-del-vallag-suma-a-sant-boi-el-segon-triomf-en-la-fase-dascens-a-segona.html
CLASS:PUBLIC
END:VEVENT
END:VCALENDAR
