BEGIN:VCALENDAR
VERSION:2.0
CALSCALE:GREGORIAN
PRODID:-//Diputació de Barcelona//DibaCMS//EN
BEGIN:VEVENT
UID:4889
DTSTAMP:20260422T051631
DTSTART:20120322T000000
DTEND:20130322T000000
SUMMARY:Dijous, no hi haurà ple ordinari, amb motiu de la vaga i el mercat ambulant serà dimecres
LOCATION:
METHOD:PUBLISH
X-WR-CALNAME:llagosta@llagosta.cat
X-WR-TIMEZONE:Europe/Madrid
DESCRIPTION:Dijous, dia 29 de març, no se celebrarà el ple ordinari de l'Ajuntament de la Llagosta corresponent a aquest mes a causa de la vaga general convocada pels sindicats. L'alcalde, Alberto López, ha decidit convocar un ple extraordinari dimecres per tractar diversos temes. 
URI:https://www.llagosta.cat/actualitat/noticies/dijous-no-hi-haura-ple-ordinari-amb-motiu-de-la-vaga-i-el-mercat-ambulant-sera-dimecres.html
CLASS:PUBLIC
END:VEVENT
END:VCALENDAR
