BEGIN:VCALENDAR
VERSION:2.0
CALSCALE:GREGORIAN
PRODID:-//Diputació de Barcelona//DibaCMS//EN
BEGIN:VEVENT
UID:4888
DTSTAMP:20260424T073256
DTSTART:20120322T000000
DTEND:20130322T000000
SUMMARY:L'alcalde participa en una reunió sobre el desviament de la línia de trens Barcelona-Vic
LOCATION:
METHOD:PUBLISH
X-WR-CALNAME:llagosta@llagosta.cat
X-WR-TIMEZONE:Europe/Madrid
DESCRIPTION:Els alcaldes de Ripollet, Juan Parralejo; de Santa Perpètua de Mogoda, Isabel Garcia, i de la Llagosta, Alberto López, es van reunir dimarts per parlar sobre el desviament de la línia de tren R3 i la seva connexió amb la línia R8. La trobada es va desenvolupar a l'Ajuntament de Ripollet i va servir per debatre sobre la possibilitat d'evitar el pas de la R3 pel nucli urbà de la Llagosta i el barri de la Florida, de Santa Perpètua de Mogoda, i avaluar traçats alternatius que permetin connectar aquesta línia amb la R8.
URI:https://www.llagosta.cat/actualitat/noticies/lalcalde-participa-en-una-reunio-sobre-el-desviament-de-la-linia-de-trens-barcelona-vic.html
CLASS:PUBLIC
END:VEVENT
END:VCALENDAR
