BEGIN:VCALENDAR
VERSION:2.0
CALSCALE:GREGORIAN
PRODID:-//Diputació de Barcelona//DibaCMS//EN
BEGIN:VEVENT
UID:4887
DTSTAMP:20260424T015458
DTSTART:20120321T000000
DTEND:20130321T000000
SUMMARY:Una exposició sobre el repartiment del temps de les dones, a Can Pelegrí
LOCATION:
METHOD:PUBLISH
X-WR-CALNAME:llagosta@llagosta.cat
X-WR-TIMEZONE:Europe/Madrid
DESCRIPTION:El Centre Cultural i Juvenil Can Pelegrí acull fins al 30 de març l'exposició Quin temps tenim? L'organització de la vida quotidiana. La mostra, cedida per l'Institut Català de les Dones, està instal·lada a la planta baixa d'aquest equipament.
URI:https://www.llagosta.cat/actualitat/noticies/una-exposicio-sobre-el-repartiment-del-temps-de-les-dones-a-can-pelegri.html
CLASS:PUBLIC
END:VEVENT
END:VCALENDAR
