BEGIN:VCALENDAR
VERSION:2.0
CALSCALE:GREGORIAN
PRODID:-//Diputació de Barcelona//DibaCMS//EN
BEGIN:VEVENT
UID:4886
DTSTAMP:20260423T235822
DTSTART:20120321T000000
DTEND:20130321T000000
SUMMARY:Menys sancions en la darrera campanya de controls de velocitat realitzada per la Policia Local
LOCATION:
METHOD:PUBLISH
X-WR-CALNAME:llagosta@llagosta.cat
X-WR-TIMEZONE:Europe/Madrid
DESCRIPTION:La Policia Local de la Llagosta ha constatat un notable descens de la velocitat de circulació dels cotxes durant la darrera campanya de controls que es va dur a terme entre el 28 de febrer i el 9 de març. Un 18% dels vehicles circulaven per sobre del límit de velocitat.
URI:https://www.llagosta.cat/actualitat/noticies/menys-sancions-en-la-darrera-campanya-de-controls-de-velocitat-realitzada-per-la-policia-local.html
CLASS:PUBLIC
END:VEVENT
END:VCALENDAR
