BEGIN:VCALENDAR
VERSION:2.0
CALSCALE:GREGORIAN
PRODID:-//Diputació de Barcelona//DibaCMS//EN
BEGIN:VEVENT
UID:4885
DTSTAMP:20260424T112125
DTSTART:20120321T000000
DTEND:20130321T000000
SUMMARY:L'equip sènior masculí A de l'EBC La Llagosta cau a casa contra el líder per 51 a 80
LOCATION:
METHOD:PUBLISH
X-WR-CALNAME:llagosta@llagosta.cat
X-WR-TIMEZONE:Europe/Madrid
DESCRIPTION:El sènior masculí A de l'Esportiu Bàsquet Club de la Llagosta va perdre el cap de setmana passat per 51 a 80 contra el Club Natació Caldes, que és el líder. Els llagostencs són cuers amb dues victòries i la propera jornada es desplaçaran a la pista del Pedagogium, que és el quart classificat. 
URI:https://www.llagosta.cat/actualitat/noticies/lequip-senior-masculi-a-de-lebc-la-llagosta-cau-a-casa-contra-el-lider-per-51-a-80.html
CLASS:PUBLIC
END:VEVENT
END:VCALENDAR
