BEGIN:VCALENDAR
VERSION:2.0
CALSCALE:GREGORIAN
PRODID:-//Diputació de Barcelona//DibaCMS//EN
BEGIN:VEVENT
UID:4884
DTSTAMP:20260424T001503
DTSTART:20120321T000000
DTEND:20130321T000000
SUMMARY:El FS Unión Llagostense aconsegueix una victòria còmoda a la pista del Futsal Plata de Gràcia
LOCATION:
METHOD:PUBLISH
X-WR-CALNAME:llagosta@llagosta.cat
X-WR-TIMEZONE:Europe/Madrid
DESCRIPTION:El Fútbol Sala Unión Llagostense va guanyar la jornada passada a la pista del Futsal Plata de Gràcia per un clar 1 a 7. Els llagostencs no van tenir cap problema per sumar una nova victòria. Al descans, el resultat ja era de 0 a 4. A la represa, els de la nostra localitat van continuar demostrant la seva superioritat.
URI:https://www.llagosta.cat/actualitat/noticies/el-fs-union-llagostense-aconsegueix-una-victoria-comoda-a-la-pista-del-futsal-plata-de-gracia.html
CLASS:PUBLIC
END:VEVENT
END:VCALENDAR
