BEGIN:VCALENDAR
VERSION:2.0
CALSCALE:GREGORIAN
PRODID:-//Diputació de Barcelona//DibaCMS//EN
BEGIN:VEVENT
UID:4883
DTSTAMP:20260423T222459
DTSTART:20120320T000000
DTEND:20130329T000000
SUMMARY:El PSC va analitzar amb veïns diversos temes de l'actualitat de la Llagosta
LOCATION:
METHOD:PUBLISH
X-WR-CALNAME:llagosta@llagosta.cat
X-WR-TIMEZONE:Europe/Madrid
DESCRIPTION:Els impostos locals, la sanitat o el manteniment dels carrers de la Llagosta van ser alguns dels temes tractats al debat La Llagosta: realitats emergents i accions de futur, organitzat per l'Agrupació del Partit dels Socialistes de la nostra localitat. L'acte es va realitzar divendres al Centre Cultural. 
URI:https://www.llagosta.cat/actualitat/noticies/el-psc-va-analitzar-amb-veins-diversos-temes-de-lactualitat-de-la-llagosta.html
CLASS:PUBLIC
END:VEVENT
END:VCALENDAR
