BEGIN:VCALENDAR
VERSION:2.0
CALSCALE:GREGORIAN
PRODID:-//Diputació de Barcelona//DibaCMS//EN
BEGIN:VEVENT
UID:4882
DTSTAMP:20260424T015732
DTSTART:20120320T000000
DTEND:20130320T000000
SUMMARY:Obert el període de preinscripció per al curs escolar 2012-2013
LOCATION:
METHOD:PUBLISH
X-WR-CALNAME:llagosta@llagosta.cat
X-WR-TIMEZONE:Europe/Madrid
DESCRIPTION:Ja està obert el període de preinscripció escolar per al curs 2012-2013 a les escoles d’ensenyament infantil, primari i secundari obligatori. Aquest tràmit es pot efectuar fins al 30 de març.
URI:https://www.llagosta.cat/actualitat/noticies/obert-el-periode-de-preinscripcio-per-al-curs-escolar-2012-2013.html
CLASS:PUBLIC
END:VEVENT
END:VCALENDAR
