BEGIN:VCALENDAR
VERSION:2.0
CALSCALE:GREGORIAN
PRODID:-//Diputació de Barcelona//DibaCMS//EN
BEGIN:VEVENT
UID:4881
DTSTAMP:20260423T235505
DTSTART:20120320T000000
DTEND:20130320T000000
SUMMARY:El Viejas Glorias guanya al camp del líder, el Sabadell Nord, per 0 a 2
LOCATION:
METHOD:PUBLISH
X-WR-CALNAME:llagosta@llagosta.cat
X-WR-TIMEZONE:Europe/Madrid
DESCRIPTION:El Club Deportivo Viejas Glorias va guanyar la jornada passada per 0 a 2 al camp del líder, el Sabadell Nord. Els llagostencs van fer un partit molt seriós i efectiu davant del millor equip de la categoria.
URI:https://www.llagosta.cat/actualitat/noticies/el-viejas-glorias-guanya-al-camp-del-lider-el-sabadell-nord-per-0-a-2.html
CLASS:PUBLIC
END:VEVENT
END:VCALENDAR
