BEGIN:VCALENDAR
VERSION:2.0
CALSCALE:GREGORIAN
PRODID:-//Diputació de Barcelona//DibaCMS//EN
BEGIN:VEVENT
UID:4880
DTSTAMP:20260424T035104
DTSTART:20120320T000000
DTEND:20130320T000000
SUMMARY:Can Pelegrí acollirà demà la celebració d'un taller sobre l'elaboració d'entrepans
LOCATION:
METHOD:PUBLISH
X-WR-CALNAME:llagosta@llagosta.cat
X-WR-TIMEZONE:Europe/Madrid
DESCRIPTION:L'Escola de pares i mares de la Llagosta organitzarà demà un taller d'entrepans amb el títol d'Aprenem a cuinar en família. Menjar fàcil, ràpid i sa. L'activitat forma part de la programació per commemorar el Dia Internacional de les Dones. 
URI:https://www.llagosta.cat/actualitat/noticies/can-pelegri-acollira-dema-la-celebracio-dun-taller-sobre-lelaboracio-dentrepans.html
CLASS:PUBLIC
END:VEVENT
END:VCALENDAR
