BEGIN:VCALENDAR
VERSION:2.0
CALSCALE:GREGORIAN
PRODID:-//Diputació de Barcelona//DibaCMS//EN
BEGIN:VEVENT
UID:4879
DTSTAMP:20260424T001738
DTSTART:20120320T000000
DTEND:20130320T000000
SUMMARY:Demà, tercera passejada per a la gent gran de la temporada a la població de Lliçà de Vall
LOCATION:
METHOD:PUBLISH
X-WR-CALNAME:llagosta@llagosta.cat
X-WR-TIMEZONE:Europe/Madrid
DESCRIPTION:Un total de 55 veïns de la Llagosta participaran demà en la tercera de les passejades per a la gent gran del cicle Esport per a tothom d'aquesta temporada. La sortida tindrà lloc per la localitat de Lliçà de Vall i comptarà amb la participació de la regidora d'Acció Social de l'Ajuntament de la Llagosta, Eva Miguel.
URI:https://www.llagosta.cat/actualitat/noticies/dema-tercera-passejada-per-a-la-gent-gran-de-la-temporada-a-la-poblacio-de-llica-de-vall.html
CLASS:PUBLIC
END:VEVENT
END:VCALENDAR
