BEGIN:VCALENDAR
VERSION:2.0
CALSCALE:GREGORIAN
PRODID:-//Diputació de Barcelona//DibaCMS//EN
BEGIN:VEVENT
UID:4878
DTSTAMP:20260424T073957
DTSTART:20120316T000000
DTEND:20130316T000000
SUMMARY:Els actes de la programació de les Festes de Sant Josep continuen aquest cap de setmana
LOCATION:
METHOD:PUBLISH
X-WR-CALNAME:llagosta@llagosta.cat
X-WR-TIMEZONE:Europe/Madrid
DESCRIPTION:Aquest cap de setmana continuen els actes de les Festes de Sant Josep, patró de la Llagosta. Una ballada de sardanes, un concurs de crema catalana i activitats infantils són les propostes programades.
URI:https://www.llagosta.cat/actualitat/noticies/els-actes-de-la-programacio-de-les-festes-de-sant-josep-continuen-aquest-cap-de-setmana.html
CLASS:PUBLIC
END:VEVENT
END:VCALENDAR
